BEGIN:VCALENDAR
VERSION:2.0
PRODID:-//eventon.com NONSGML v1.0//EN
BEGIN:VEVENT
UID:69e4d38b5c530
DTSTAMP:20260419T150723
DTSTART:20240929T220000Z
DTEND:20240930T215000Z
LOCATION:
SUMMARY:Réunion de chambre Normandie
DESCRIPTION: Réunion de chambre Normandie
END:VEVENT
END:VCALENDAR