BEGIN:VCALENDAR
VERSION:2.0
PRODID:-//eventon.com NONSGML v1.0//EN
BEGIN:VEVENT
UID:69e73095ce207
DTSTAMP:20260421T100853
DTSTART:20260407T073000Z
DTEND:20260407T103000Z
LOCATION:Metz 
SUMMARY:Réunion de chambre Lorraine
DESCRIPTION: Réunion de chambre Lorraine
END:VEVENT
END:VCALENDAR