BEGIN:VCALENDAR
VERSION:2.0
PRODID:-//eventon.com NONSGML v1.0//EN
BEGIN:VEVENT
UID:69e578c47d71b
DTSTAMP:20260420T025220
DTSTART:20260528T160000Z
DTEND:20260528T215000Z
LOCATION:Paris 
SUMMARY:Assemblée générale Unam
DESCRIPTION: Assemblée générale Unam
END:VEVENT
END:VCALENDAR