BEGIN:VCALENDAR
VERSION:2.0
PRODID:-//eventon.com NONSGML v1.0//EN
BEGIN:VEVENT
UID:69e5fc78718a0
DTSTAMP:20260420T121416
DTSTART:20260505T150000Z
DTEND:20260505T215000Z
LOCATION:Paris 
SUMMARY:Réunion de chambre Île-de-France Picardie
DESCRIPTION: Réunion de chambre Île-de-France Picardie
END:VEVENT
END:VCALENDAR