BEGIN:VCALENDAR
VERSION:2.0
PRODID:-//eventon.com NONSGML v1.0//EN
BEGIN:VEVENT
UID:69e8904c5d2df
DTSTAMP:20260422T110932
DTSTART:20210121T070000Z
DTEND:20210122T150000Z
LOCATION:Colloque en ligne 
SUMMARY:Pour des métropoles résilientes : métropoles en transitions cherchent trajectoires territoriales
DESCRIPTION: La métropolisation nourrit des attentes liées à ce que peuvent les métropoles\,  afin d'assurer un bien-vivre ensemble\,  en tenant compte de la diversité des configurations sociales mais aussi spatiales\,  ce qui nécessite des connexions particulières avec les territoires périmétropolitains et ruraux. Au-delà d'une mission de complémentarité entre ces espaces\,  et[..]
END:VEVENT
END:VCALENDAR