BEGIN:VCALENDAR
VERSION:2.0
PRODID:-//eventon.com NONSGML v1.0//EN
BEGIN:VEVENT
UID:69e88c4dbaa58
DTSTAMP:20260422T105229
DTSTART:20210924T080000Z
DTEND:20210926T170000Z
LOCATION:Parc Floral de Paris 
SUMMARY:Faire construire sa Maison
DESCRIPTION: Le Salon de la Maison fait peau neuve pour accueillir les visiteurs dans un cadre agréable et privilégié\,  au Parc Floral de Paris\,  au cœur du Bois de Vincennes. C’est l’occasion de réunir dans un même lieu l'ensemble des professionnels du marché de la maison et de découvrir les dernières[..]
END:VEVENT
END:VCALENDAR