BEGIN:VCALENDAR
VERSION:2.0
PRODID:-//eventon.com NONSGML v1.0//EN
BEGIN:VEVENT
UID:69e5e61cb3f24
DTSTAMP:20260420T103852
DTSTART:20210909T070000Z
DTEND:20210910T150000Z
LOCATION:Nantes 
SUMMARY:Journées Nationales de France urbaine
DESCRIPTION: La 4ème édition des Journées Nationales de France urbaine se tiendra à Nantes à l'invitation de Johanna Rolland\,  maire de Nantes\,  présidente de Nantes Métropole et présidente de France urbaine. Après Arras\,  Dijon et Toulouse\,  ce sera de nouveau l’occasion pour les membres de France urbaine de se retrouver et[..]
END:VEVENT
END:VCALENDAR