BEGIN:VCALENDAR
VERSION:2.0
PRODID:-//eventon.com NONSGML v1.0//EN
BEGIN:VEVENT
UID:69e73070508c6
DTSTAMP:20260421T100816
DTSTART:20211001T123000Z
DTEND:20211003T153000Z
LOCATION:MEETT - Parc des Expositions et Centre de Conventions de Toulouse Métropole Concorde Avenue\,  31840 Aussonne
SUMMARY:Salon de l'immobilier à Toulouse
DESCRIPTION: Salon de l'immobilier à Toulouse
END:VEVENT
END:VCALENDAR