BEGIN:VCALENDAR
VERSION:2.0
PRODID:-//eventon.com NONSGML v1.0//EN
BEGIN:VEVENT
UID:69e7308234c02
DTSTAMP:20260421T100834
DTSTART:20220401T071500Z
DTEND:20220401T215000Z
LOCATION:Préfecture de Région 5 Rue Leblanc\,  75015 Paris
SUMMARY:Quelle place pour la maison individuelle à l'heure du Zéro artificialisation nette en Île-de-France ?
DESCRIPTION: La crise sanitaire a conforté l'appétence des franciliens pour la maison individuelle\,  alors même que les impératifs de sobriété foncière conduisent à accentuer le renouvellement et la densification de ces espaces peu denses\,  dont la pérennité est parfois menacée. Face à ces injonctions contradictoires\,  quelle est la capacité du pavillonnaire[..]
END:VEVENT
END:VCALENDAR