BEGIN:VCALENDAR
VERSION:2.0
PRODID:-//eventon.com NONSGML v1.0//EN
BEGIN:VEVENT
UID:69e4d4bf5b340
DTSTAMP:20260419T151231
DTSTART:20230116T220000Z
DTEND:20230117T215000Z
LOCATION:Conseil Régional de l&#039;Ordre des architectes d&#039;Ile-de-France 148 Rue du Faubourg Saint-Martin\,  75010 Paris
SUMMARY:CONSEIL D'ADMINISTRATION DE L'UNAM
DESCRIPTION: CONSEIL D'ADMINISTRATION DE L'UNAM
END:VEVENT
END:VCALENDAR