BEGIN:VCALENDAR
VERSION:2.0
PRODID:-//eventon.com NONSGML v1.0//EN
BEGIN:VEVENT
UID:69e5e6cce4fcd
DTSTAMP:20260420T104148
DTSTART:20230222T153000Z
DTEND:20230222T215000Z
LOCATION:Vignes et Vins 11 cours Franklin Roosevelt\,  Lyon
SUMMARY:Réunion de chambre Rhône-Alpes
DESCRIPTION: Réunion de chambre Rhône-Alpes
END:VEVENT
END:VCALENDAR