BEGIN:VCALENDAR
VERSION:2.0
PRODID:-//eventon.com NONSGML v1.0//EN
BEGIN:VEVENT
UID:69e8aae62f297
DTSTAMP:20260422T130302
DTSTART:20241025T070000Z
DTEND:20241025T150000Z
LOCATION:Maison de l&#039;Alsace 39 Av. des Champs-Élysées\,  75008 Paris
SUMMARY:Planification urbaine : maîtriser la chaîne de planification et les différents documents
DESCRIPTION: Formation animée par Laure Bertrand\,  Directrice juridique à l'UNAM Cette formation a pour objectif de vous aider à maîtriser la chaîne de planification et les différents documents. Elle aura lieu sur une journée\,  le vendredi 25 octobre 2024 de 9h à 17h (7h) à Paris et également en visioconférence. Retrouvez[..]
END:VEVENT
END:VCALENDAR